Workbook

Sheet Clients
A1: Client | B1: Interlocuteur | C1: Email | D1: Téléphone | E1: Secteur | F1: ARR (€) | G1: MRR (€) | H1: Score santé | I1: NPS | J1: Statut | K1: CSM | L1: Date renouvellement | M1: Notes

Sheet Pilotage
A1: Pilotage du portefeuille
A3: Horizon de renouvellement (jours) | B3: 90 | D3: Clients | E3: =COUNTA(Clients!A2:A501) -> 0
A4: Date du jour | B4: =TODAY() -> 46286 | D4: ARR total | E4: =SUM(Clients!F2:F501) -> 0
D5: Renouvellements dans l’horizon | E5: =COUNTIFS(G12:G511,">=0",G12:G511,"<="&$B$3) -> 0
D6: Renouvellements dépassés | E6: =COUNTIF(G12:G511,"<0") -> 0
D7: Comptes critiques | E7: =COUNTIF(Clients!J2:J501,"Critique") -> 0
D8: Comptes à traiter | E8: =COUNTIF(H12:H511,"Oui") -> 0
A10: Calculé automatiquement depuis l’onglet Clients. Ne rien saisir ici, sauf l’horizon en B3. Filtrez la colonne « À traiter » sur « Oui » pour votre liste de la semaine.
A11: Client | B11: CSM | C11: Statut | D11: Score santé | E11: ARR (€) | F11: Date renouvellement | G11: Jours avant renouvellement | H11: À traiter
A12: =IF(Clients!A2="","",Clients!A2) | B12: =IF(Clients!A2="","",Clients!K2&"") | C12: =IF(Clients!A2="","",Clients!J2&"") | D12: =IF(OR(Clients!A2="",Clients!H2=""),"",Clients!H2) | E12: =IF(OR(Clients!A2="",Clients!F2=""),"",Clients!F2) | F12: =IF(OR(Clients!A2="",Clients!L2=""),"",IF(ISNUMBER(Clients!L2),Clients!L2,IFERROR(DATE(VALUE(RIGHT(Clients!L2,4)),VALUE(MID(Clients!L2,4,2)),VALUE(LEFT(Clients!L2,2))),"Date à vérifier"))) | G12: =IF(ISNUMBER(F12),F12-$B$4,"") | H12: =IF(AND(ISNUMBER(G12),C12<>"Sain",G12<=$B$3),"Oui","")
A13: =IF(Clients!A3="","",Clients!A3) | B13: =IF(Clients!A3="","",Clients!K3&"") | C13: =IF(Clients!A3="","",Clients!J3&"") | D13: =IF(OR(Clients!A3="",Clients!H3=""),"",Clients!H3) | E13: =IF(OR(Clients!A3="",Clients!F3=""),"",Clients!F3) | F13: =IF(OR(Clients!A3="",Clients!L3=""),"",IF(ISNUMBER(Clients!L3),Clients!L3,IFERROR(DATE(VALUE(RIGHT(Clients!L3,4)),VALUE(MID(Clients!L3,4,2)),VALUE(LEFT(Clients!L3,2))),"Date à vérifier"))) | G13: =IF(ISNUMBER(F13),F13-$B$4,"") | H13: =IF(AND(ISNUMBER(G13),C13<>"Sain",G13<=$B$3),"Oui","")
A14: =IF(Clients!A4="","",Clients!A4) | B14: =IF(Clients!A4="","",Clients!K4&"") | C14: =IF(Clients!A4="","",Clients!J4&"") | D14: =IF(OR(Clients!A4="",Clients!H4=""),"",Clients!H4) | E14: =IF(OR(Clients!A4="",Clients!F4=""),"",Clients!F4) | F14: =IF(OR(Clients!A4="",Clients!L4=""),"",IF(ISNUMBER(Clients!L4),Clients!L4,IFERROR(DATE(VALUE(RIGHT(Clients!L4,4)),VALUE(MID(Clients!L4,4,2)),VALUE(LEFT(Clients!L4,2))),"Date à vérifier"))) | G14: =IF(ISNUMBER(F14),F14-$B$4,"") | H14: =IF(AND(ISNUMBER(G14),C14<>"Sain",G14<=$B$3),"Oui","")
A15: =IF(Clients!A5="","",Clients!A5) | B15: =IF(Clients!A5="","",Clients!K5&"") | C15: =IF(Clients!A5="","",Clients!J5&"") | D15: =IF(OR(Clients!A5="",Clients!H5=""),"",Clients!H5) | E15: =IF(OR(Clients!A5="",Clients!F5=""),"",Clients!F5) | F15: =IF(OR(Clients!A5="",Clients!L5=""),"",IF(ISNUMBER(Clients!L5),Clients!L5,IFERROR(DATE(VALUE(RIGHT(Clients!L5,4)),VALUE(MID(Clients!L5,4,2)),VALUE(LEFT(Clients!L5,2))),"Date à vérifier"))) | G15: =IF(ISNUMBER(F15),F15-$B$4,"") | H15: =IF(AND(ISNUMBER(G15),C15<>"Sain",G15<=$B$3),"Oui","")
A16: =IF(Clients!A6="","",Clients!A6) | B16: =IF(Clients!A6="","",Clients!K6&"") | C16: =IF(Clients!A6="","",Clients!J6&"") | D16: =IF(OR(Clients!A6="",Clients!H6=""),"",Clients!H6) | E16: =IF(OR(Clients!A6="",Clients!F6=""),"",Clients!F6) | F16: =IF(OR(Clients!A6="",Clients!L6=""),"",IF(ISNUMBER(Clients!L6),Clients!L6,IFERROR(DATE(VALUE(RIGHT(Clients!L6,4)),VALUE(MID(Clients!L6,4,2)),VALUE(LEFT(Clients!L6,2))),"Date à vérifier"))) | G16: =IF(ISNUMBER(F16),F16-$B$4,"") | H16: =IF(AND(ISNUMBER(G16),C16<>"Sain",G16<=$B$3),"Oui","")
A17: =IF(Clients!A7="","",Clients!A7) | B17: =IF(Clients!A7="","",Clients!K7&"") | C17: =IF(Clients!A7="","",Clients!J7&"") | D17: =IF(OR(Clients!A7="",Clients!H7=""),"",Clients!H7) | E17: =IF(OR(Clients!A7="",Clients!F7=""),"",Clients!F7) | F17: =IF(OR(Clients!A7="",Clients!L7=""),"",IF(ISNUMBER(Clients!L7),Clients!L7,IFERROR(DATE(VALUE(RIGHT(Clients!L7,4)),VALUE(MID(Clients!L7,4,2)),VALUE(LEFT(Clients!L7,2))),"Date à vérifier"))) | G17: =IF(ISNUMBER(F17),F17-$B$4,"") | H17: =IF(AND(ISNUMBER(G17),C17<>"Sain",G17<=$B$3),"Oui","")
A18: =IF(Clients!A8="","",Clients!A8) | B18: =IF(Clients!A8="","",Clients!K8&"") | C18: =IF(Clients!A8="","",Clients!J8&"") | D18: =IF(OR(Clients!A8="",Clients!H8=""),"",Clients!H8) | E18: =IF(OR(Clients!A8="",Clients!F8=""),"",Clients!F8) | F18: =IF(OR(Clients!A8="",Clients!L8=""),"",IF(ISNUMBER(Clients!L8),Clients!L8,IFERROR(DATE(VALUE(RIGHT(Clients!L8,4)),VALUE(MID(Clients!L8,4,2)),VALUE(LEFT(Clients!L8,2))),"Date à vérifier"))) | G18: =IF(ISNUMBER(F18),F18-$B$4,"") | H18: =IF(AND(ISNUMBER(G18),C18<>"Sain",G18<=$B$3),"Oui","")
A19: =IF(Clients!A9="","",Clients!A9) | B19: =IF(Clients!A9="","",Clients!K9&"") | C19: =IF(Clients!A9="","",Clients!J9&"") | D19: =IF(OR(Clients!A9="",Clients!H9=""),"",Clients!H9) | E19: =IF(OR(Clients!A9="",Clients!F9=""),"",Clients!F9) | F19: =IF(OR(Clients!A9="",Clients!L9=""),"",IF(ISNUMBER(Clients!L9),Clients!L9,IFERROR(DATE(VALUE(RIGHT(Clients!L9,4)),VALUE(MID(Clients!L9,4,2)),VALUE(LEFT(Clients!L9,2))),"Date à vérifier"))) | G19: =IF(ISNUMBER(F19),F19-$B$4,"") | H19: =IF(AND(ISNUMBER(G19),C19<>"Sain",G19<=$B$3),"Oui","")
A20: =IF(Clients!A10="","",Clients!A10) | B20: =IF(Clients!A10="","",Clients!K10&"") | C20: =IF(Clients!A10="","",Clients!J10&"") | D20: =IF(OR(Clients!A10="",Clients!H10=""),"",Clients!H10) | E20: =IF(OR(Clients!A10="",Clients!F10=""),"",Clients!F10) | F20: =IF(OR(Clients!A10="",Clients!L10=""),"",IF(ISNUMBER(Clients!L10),Clients!L10,IFERROR(DATE(VALUE(RIGHT(Clients!L10,4)),VALUE(MID(Clients!L10,4,2)),VALUE(LEFT(Clients!L10,2))),"Date à vérifier"))) | G20: =IF(ISNUMBER(F20),F20-$B$4,"") | H20: =IF(AND(ISNUMBER(G20),C20<>"Sain",G20<=$B$3),"Oui","")
A21: =IF(Clients!A11="","",Clients!A11) | B21: =IF(Clients!A11="","",Clients!K11&"") | C21: =IF(Clients!A11="","",Clients!J11&"") | D21: =IF(OR(Clients!A11="",Clients!H11=""),"",Clients!H11) | E21: =IF(OR(Clients!A11="",Clients!F11=""),"",Clients!F11) | F21: =IF(OR(Clients!A11="",Clients!L11=""),"",IF(ISNUMBER(Clients!L11),Clients!L11,IFERROR(DATE(VALUE(RIGHT(Clients!L11,4)),VALUE(MID(Clients!L11,4,2)),VALUE(LEFT(Clients!L11,2))),"Date à vérifier"))) | G21: =IF(ISNUMBER(F21),F21-$B$4,"") | H21: =IF(AND(ISNUMBER(G21),C21<>"Sain",G21<=$B$3),"Oui","")
A22: =IF(Clients!A12="","",Clients!A12) | B22: =IF(Clients!A12="","",Clients!K12&"") | C22: =IF(Clients!A12="","",Clients!J12&"") | D22: =IF(OR(Clients!A12="",Clients!H12=""),"",Clients!H12) | E22: =IF(OR(Clients!A12="",Clients!F12=""),"",Clients!F12) | F22: =IF(OR(Clients!A12="",Clients!L12=""),"",IF(ISNUMBER(Clients!L12),Clients!L12,IFERROR(DATE(VALUE(RIGHT(Clients!L12,4)),VALUE(MID(Clients!L12,4,2)),VALUE(LEFT(Clients!L12,2))),"Date à vérifier"))) | G22: =IF(ISNUMBER(F22),F22-$B$4,"") | H22: =IF(AND(ISNUMBER(G22),C22<>"Sain",G22<=$B$3),"Oui","")
A23: =IF(Clients!A13="","",Clients!A13) | B23: =IF(Clients!A13="","",Clients!K13&"") | C23: =IF(Clients!A13="","",Clients!J13&"") | D23: =IF(OR(Clients!A13="",Clients!H13=""),"",Clients!H13) | E23: =IF(OR(Clients!A13="",Clients!F13=""),"",Clients!F13) | F23: =IF(OR(Clients!A13="",Clients!L13=""),"",IF(ISNUMBER(Clients!L13),Clients!L13,IFERROR(DATE(VALUE(RIGHT(Clients!L13,4)),VALUE(MID(Clients!L13,4,2)),VALUE(LEFT(Clients!L13,2))),"Date à vérifier"))) | G23: =IF(ISNUMBER(F23),F23-$B$4,"") | H23: =IF(AND(ISNUMBER(G23),C23<>"Sain",G23<=$B$3),"Oui","")
... A511: =IF(Clients!A501="","",Clients!A501) | B511: =IF(Clients!A501="","",Clients!K501&"") | C511: =IF(Clients!A501="","",Clients!J501&"") | D511: =IF(OR(Clients!A501="",Clients!H501=""),"",Clients!H501) | E511: =IF(OR(Clients!A501="",Clients!F501=""),"",Clients!F501) | F511: =IF(OR(Clients!A501="",Clients!L501=""),"",IF(ISNUMBER(Clients!L501),Clients!L501,IFERROR(DATE(VALUE(RIGHT(Clients!L501,4)),VALUE(MID(Clients!L501,4,2)),VALUE(LEFT(Clients!L501,2))),"Date à vérifier"))) | G511: =IF(ISNUMBER(F511),F511-$B$4,"") | H511: =IF(AND(ISNUMBER(G511),C511<>"Sain",G511<=$B$3),"Oui","")

Sheet Mode d’emploi
A1: Modèle de tableau de suivi client
A2: Gratuit, proposé par Scalyo — scalyo.app/ressources/
A4: En 4 étapes
A5: 1. Remplissez l’onglet Clients : un compte par ligne. Seule la colonne Client est obligatoire.
A6: 2. Chaque semaine, mettez à jour le score santé et le statut des comptes que vous avez eus en contact.
A7: 3. Ouvrez l’onglet Pilotage et filtrez « À traiter » sur « Oui » : ce sont vos priorités.
A8: 4. Notez chaque échange important dans la colonne Notes, avec sa date.
A10: Les colonnes, et un exemple de ligne
A11: Colonne | B11: À quoi elle sert | C11: Exemple
A12: Client | B12: Le nom du compte. Obligatoire. | C12: Atelier Durand SAS
A13: Interlocuteur | B13: La personne que vous appelez. | C13: Claire Martin
A14: Email | B14: Pour la joindre. | C14: c.martin@exemple.fr
A15: Téléphone | B15: Pour la joindre. | C15: +33 6 00 00 00 00
A16: Secteur | B16: Pour comparer ce qui est comparable. | C16: Logistique
A17: ARR (€) | B17: Revenu annuel récurrent du compte. | C17: 24 000
A18: MRR (€) | B18: Revenu mensuel récurrent du compte. | C18: 2 000
A19: Score santé | B19: Votre évaluation de 0 à 100 (grille ci-dessous). | C19: 72
A20: NPS | B20: Dernier score de recommandation connu. | C20: 40
A21: Statut | B21: Sain, À surveiller ou Critique. | C21: À surveiller
A22: CSM | B22: Qui suit le compte. | C22: Julie
... A24: Notes | B24: Le contexte qu’on oublie sinon. | C24: Nouveau directeur des opérations depuis septembre.
A26: Une grille simple pour le score santé (sur 100)
A27: Usage : le client utilise-t-il vraiment le produit, et de plus en plus ? — jusqu’à 25 points
A28: Relation : avez-vous un interlocuteur actif, et un appui chez le décideur ? — jusqu’à 25 points
A29: Satisfaction : retours, tickets, NPS récents — jusqu’à 25 points
A30: Valeur : le client a-t-il atteint le résultat pour lequel il a acheté ? — jusqu’à 25 points
A32: Importer le fichier dans Scalyo
A33: Les en-têtes de l’onglet Clients sont ceux que l’import du portefeuille Scalyo reconnaît automatiquement. Pour le garder : ne renommez pas les en-têtes, ne placez rien au-dessus de la ligne 1, et laissez Clients en premier onglet.
